BEGIN:VCALENDAR
VERSION:2.0
PRODID:-//Plone.org//NONSGML plone.app.event//EN
X-WR-TIMEZONE:US/Central
BEGIN:VEVENT
SUMMARY:Closed-Columbus Day
DTSTART;VALUE=DATE:20251011
DTEND;VALUE=DATE:20251014
DTSTAMP:20260421T053947Z
UID:9489db4f38e14da8bbf2b00a189f7be3@saas_stack_varnish:6080
CONTACT:9038563302\, info@pittsburglibrary.org
CREATED:20250710T212533Z
DESCRIPTION:The Pittsburg Library will be closed Saturday\, October 11th &
  Monday\, October 13th for Columbus Day. Please return materials through b
 ook drop. You can renew online or call (903)856-3302 and leave your name\,
  acct. number\, and name of item to be renewed or reserved. We will re-ope
 n Tuesday\, October 14th @9:00 am. Have a Safe Holiday!
LAST-MODIFIED:20250710T212544Z
LOCATION:Pittsburg Library
URL:https://www.pittsburglibrary.org/closed-columbus-day-1
END:VEVENT
END:VCALENDAR
