BEGIN:VCALENDAR
VERSION:2.0
PRODID:-//Plone.org//NONSGML plone.app.event//EN
X-WR-TIMEZONE:US/Central
BEGIN:VEVENT
SUMMARY:Closed-Labor Day
DTSTART;VALUE=DATE:20250901
DTEND;VALUE=DATE:20250902
DTSTAMP:20260421T053528Z
UID:3affd534cd6a48f38dc37592811e409b@saas_stack_varnish:6080
CONTACT:9038563302\, info@pittsburglibrary.org
CREATED:20250710T212223Z
DESCRIPTION:The Pittsburg Library will be closed Monday\, September 1st\, 
  for Labor Day. Please return materials through book drop. You can renew o
 nline or call (903)856-3302 and leave your name\, acct. number\, and name 
 of item to be renewed or reserved. We will re-open Tuesday\, September 2nd
  @9:00 am. Have a Safe Holiday!
LAST-MODIFIED:20250710T212244Z
LOCATION:Pittsburg Library
URL:https://www.pittsburglibrary.org/closed-labor-day
END:VEVENT
END:VCALENDAR
