BEGIN:VCALENDAR
VERSION:2.0
PRODID:-//Plone.org//NONSGML plone.app.event//EN
X-WR-TIMEZONE:US/Central
BEGIN:VEVENT
SUMMARY:Closed-Veterans Day
DTSTART;VALUE=DATE:20251111
DTEND;VALUE=DATE:20251112
DTSTAMP:20260421T053323Z
UID:6f799bd268de4065a7cfb852e48a7f98@saas_stack_varnish:6080
CONTACT:9038563302\, info@pittsburglibrary.org
CREATED:20250710T214842Z
DESCRIPTION:The Library will be closed Tuesday\, November 11th for Veteran
 s Day. Please return materials through book drop. You can renew online or 
 call (903)856-3302 and leave your name\, acct. number\, and name of item t
 o be renewed or reserved. We will re-open Wednesday\, November 12th @9:00 
 am. Have a Safe Holiday!
LAST-MODIFIED:20250710T214852Z
LOCATION:Pittsburg Library
URL:https://www.pittsburglibrary.org/closed-veterans-day
END:VEVENT
END:VCALENDAR
