BEGIN:VCALENDAR
VERSION:2.0
PRODID:-//Plone.org//NONSGML plone.app.event//EN
X-WR-TIMEZONE:US/Central
BEGIN:VEVENT
SUMMARY:Medicare Informational Meeting
DTSTART;TZID=US/Central:20251119T110000
DTEND;TZID=US/Central:20251119T120000
DTSTAMP:20260421T053308Z
UID:04edf42c450c4475a80ed9b0df439a53@saas_stack_varnish:6080
CONTACT:9038563302\, info@pittsburglibrary.org
CREATED:20250711T181350Z
DESCRIPTION:When it comes to Medicare\, you have choices. No matter your s
 ituation\, Andy can help you get answers.
LAST-MODIFIED:20250711T181359Z
LOCATION:Pittsburg Library
URL:https://www.pittsburglibrary.org/medicare-informational-meeting-1
END:VEVENT
BEGIN:VTIMEZONE
TZID:US/Central
X-LIC-LOCATION:US/Central
BEGIN:STANDARD
DTSTART:20251102T010000
TZNAME:CST
TZOFFSETFROM:-0500
TZOFFSETTO:-0600
END:STANDARD
END:VTIMEZONE
END:VCALENDAR
