BEGIN:VCALENDAR
VERSION:2.0
PRODID:-//Plone.org//NONSGML plone.app.event//EN
X-WR-TIMEZONE:US/Central
BEGIN:VEVENT
SUMMARY:Medicare Informational Meeting
DTSTART;TZID=US/Central:20251022T110000
DTEND;TZID=US/Central:20251022T120000
DTSTAMP:20260421T053323Z
UID:32e242c3f49348399f03f759fb04fe1d@saas_stack_varnish:6080
CONTACT:9038563302\, info@pittsburglibrary.org
CREATED:20250711T181510Z
DESCRIPTION:When it comes to Medicare\, you have choices. No matter your s
 ituation\, Andy can help you get answers.
LAST-MODIFIED:20250711T181518Z
LOCATION:Pittsburg Library
URL:https://www.pittsburglibrary.org/medicare-informational-meeting-2
END:VEVENT
BEGIN:VTIMEZONE
TZID:US/Central
X-LIC-LOCATION:US/Central
BEGIN:DAYLIGHT
DTSTART:20250309T030000
TZNAME:CDT
TZOFFSETFROM:-0600
TZOFFSETTO:-0500
END:DAYLIGHT
END:VTIMEZONE
END:VCALENDAR
