BEGIN:VCALENDAR
VERSION:2.0
PRODID:-//Plone.org//NONSGML plone.app.event//EN
X-WR-TIMEZONE:US/Central
BEGIN:VEVENT
SUMMARY:Medicare Informational Meeting
DTSTART;TZID=US/Central:20251105T110000
DTEND;TZID=US/Central:20251105T120000
DTSTAMP:20260421T053737Z
UID:b1e3372dfe674b528117328fa8177dbb@saas_stack_varnish:6080
CONTACT:9038563302\, info@pittsburglibrary.org
CREATED:20250711T181009Z
DESCRIPTION:When it comes to Medicare\, you have choices. No matter your s
 ituation\, Andy can help you get answers.
LAST-MODIFIED:20250711T181243Z
LOCATION:Pittsburg Library
URL:https://www.pittsburglibrary.org/medicare-informational-meeting
END:VEVENT
BEGIN:VTIMEZONE
TZID:US/Central
X-LIC-LOCATION:US/Central
BEGIN:STANDARD
DTSTART:20251102T010000
TZNAME:CST
TZOFFSETFROM:-0500
TZOFFSETTO:-0600
END:STANDARD
END:VTIMEZONE
END:VCALENDAR
