BEGIN:VCALENDAR
VERSION:2.0
PRODID:-//Plone.org//NONSGML plone.app.event//EN
X-WR-TIMEZONE:US/Central
BEGIN:VEVENT
SUMMARY:GED Classes
DTSTART;TZID=US/Central:20160108T153000
DTEND;TZID=US/Central:20160108T170000
DTSTAMP:20260421T041530Z
UID:dfd09901b3ec46e7a0b45a6a5d3fdb75@saas_stack_varnish:6080
RRULE:FREQ=WEEKLY;COUNT=7;BYDAY=FR
RDATE;TZID=US/Central:20160115T000000,20160122T000000
EXDATE;TZID=US/Central:20160109T000000,20160110T000000,20160111T000000,201
 60112T000000,20160113T000000,20160114T000000
CONTACT:(903)856-3302\, info@pittsburglibrary.org
CREATED:20160107T174929Z
DESCRIPTION:Classes will be provided by Burt and Nancy Marans Charitable F
 und At East Texas Communities Foundation.
LAST-MODIFIED:20160107T175134Z
LOCATION:Pittsburg Camp County Public Library
URL:https://www.pittsburglibrary.org/news-events/ged-classes
END:VEVENT
BEGIN:VTIMEZONE
TZID:US/Central
X-LIC-LOCATION:US/Central
BEGIN:STANDARD
DTSTART:20151101T010000
TZNAME:CST
TZOFFSETFROM:-0500
TZOFFSETTO:-0600
END:STANDARD
END:VTIMEZONE
END:VCALENDAR
