BEGIN:VCALENDAR
VERSION:2.0
PRODID:-//Plone.org//NONSGML plone.app.event//EN
X-WR-TIMEZONE:US/Central
BEGIN:VEVENT
SUMMARY:Closed-Christmas
DTSTART;VALUE=DATE:20151225
DTEND;VALUE=DATE:20151226
DTSTAMP:20260420T192808Z
UID:048b50810883495294894a8bd2c5df48@saas_stack_varnish:6080
CONTACT:(903)856-3302\, info@pittsburglibrary.org
CREATED:20151208T224253Z
DESCRIPTION:The Pittsburg Camp County Public Library will be closed Thursd
 ay\, December 24\, 2015 through Sunday\, December 27\, 2015 for Christmas.
  Please return all materials through book drop\, renew online\, or call an
 d leave your name & account number and title of book to be renewed or rese
 rved. 
LAST-MODIFIED:20151209T183312Z
LOCATION:Pittsburg Camp County Public Library
URL:https://www.pittsburglibrary.org/news-events/lib-cal/closed-christmas-
 1
END:VEVENT
END:VCALENDAR
