BEGIN:VCALENDAR
VERSION:2.0
PRODID:-//Plone.org//NONSGML plone.app.event//EN
X-WR-TIMEZONE:US/Central
BEGIN:VEVENT
SUMMARY:CLOSED-CHRISTMAS
DTSTART;VALUE=DATE:20171225
DTEND;VALUE=DATE:20171226
DTSTAMP:20260421T230735Z
UID:58561627b751402285530a3cd4827e98@saas_stack_varnish:6080
CONTACT:(903)856-3302\, info@pittsburglibrary.org
CREATED:20170831T180500Z
DESCRIPTION:The Pittsburg Library will be closed Monday\, November 25\, 20
 17 for Christmas. Please return materials through bookdrop. Call (903)856-
 3302 or go online www.pittsburglibrary.org to renew or reserve items. Have
  a great & safe holiday!
LAST-MODIFIED:20170831T180507Z
LOCATION:Pittsburg Camp County Public Library
URL:https://www.pittsburglibrary.org/news-events/lib-cal/closed-christmas-
 7
END:VEVENT
END:VCALENDAR
