BEGIN:VCALENDAR
VERSION:2.0
PRODID:-//Plone.org//NONSGML plone.app.event//EN
X-WR-TIMEZONE:US/Central
BEGIN:VEVENT
SUMMARY:*Technology Question and Answer*- May 11th 2-4pm
DTSTART;TZID=US/Central:20120511T140000
DTEND;TZID=US/Central:20120511T160000
DTSTAMP:20260421T215328Z
UID:10d8697289618f9300a57c1272931e7b@saas_stack_varnish:6080
CONTACT:Amy\, 903.856.3302\, info@pittsburglibrary.org
CREATED:20120430T170245Z
DESCRIPTION:*Technology Question and Answer Session*- Receive help with qu
 estions you may have about any type of computer  technology.\n\nFree Basic
  Computer Classes provided by a grant from Capital One.
LAST-MODIFIED:20120430T171947Z
LOCATION:Pittsburg Camp County Public Library\, 613 Quitman Street\, Pitts
 burg\, TX 75686
URL:https://www.pittsburglibrary.org/news-events/lib-cal/free-basic-comput
 er-classes-for-may-2.ics
END:VEVENT
BEGIN:VTIMEZONE
TZID:US/Central
X-LIC-LOCATION:US/Central
BEGIN:DAYLIGHT
DTSTART:20120311T030000
TZNAME:CDT
TZOFFSETFROM:-0600
TZOFFSETTO:-0500
END:DAYLIGHT
END:VTIMEZONE
END:VCALENDAR
