BEGIN:VCALENDAR
VERSION:2.0
PRODID:-//Plone.org//NONSGML plone.app.event//EN
X-WR-TIMEZONE:US/Central
BEGIN:VEVENT
SUMMARY:FREE ESL Classes
DTSTART;TZID=US/Central:20180127T100000
DTEND;TZID=US/Central:20180127T120000
DTSTAMP:20260421T231508Z
UID:fecca64f2c4546cc8405599e9f08ee25@saas_stack_varnish:6080
CONTACT:(903)856-3302\, info@pittsburglibrary.org
CREATED:20180126T213522Z
DESCRIPTION:Free ESL classes sponsored by Capital One.
LAST-MODIFIED:20180214T232155Z
LOCATION:Pittsburg Camp County Public Library
URL:https://www.pittsburglibrary.org/news-events/lib-cal/free-esl-classes
END:VEVENT
BEGIN:VTIMEZONE
TZID:US/Central
X-LIC-LOCATION:US/Central
BEGIN:STANDARD
DTSTART:20171105T010000
TZNAME:CST
TZOFFSETFROM:-0500
TZOFFSETTO:-0600
END:STANDARD
END:VTIMEZONE
END:VCALENDAR
