BEGIN:VCALENDAR
VERSION:2.0
PRODID:-//Plone.org//NONSGML plone.app.event//EN
X-WR-TIMEZONE:US/Central
BEGIN:VEVENT
SUMMARY:GED Classes
DTSTART;TZID=US/Central:20160226T153000
DTEND;TZID=US/Central:20160226T170000
DTSTAMP:20260421T231714Z
UID:dc072debff4949839c1c83e9cd13fa3d@saas_stack_varnish:6080
RRULE:FREQ=WEEKLY;COUNT=7;BYDAY=FR
RDATE;TZID=US/Central:20160415T000000
EXDATE;TZID=US/Central:20160325T000000
CONTACT:(903)856-3302\, info@pittsburglibrary.org
CREATED:20160129T211806Z
DESCRIPTION:GED Preparation Class Enrollment\nClasses will be provided by 
 Burt and Nancy Marans Charitable Fund At East Texas Communities Foundation
 \nOn Fridays 3:30 pm to 5:00 pm
LAST-MODIFIED:20160129T211954Z
LOCATION:Pittsburg Camp County Public Library
URL:https://www.pittsburglibrary.org/news-events/lib-cal/ged-classes-1
END:VEVENT
BEGIN:VTIMEZONE
TZID:US/Central
X-LIC-LOCATION:US/Central
BEGIN:STANDARD
DTSTART:20151101T010000
TZNAME:CST
TZOFFSETFROM:-0500
TZOFFSETTO:-0600
END:STANDARD
END:VTIMEZONE
END:VCALENDAR
