BEGIN:VCALENDAR
VERSION:2.0
PRODID:-//Plone.org//NONSGML plone.app.event//EN
X-WR-TIMEZONE:US/Central
BEGIN:VEVENT
SUMMARY:Wildlife On The Move
DTSTART;TZID=US/Central:20240701T150000
DTEND;TZID=US/Central:20240701T160000
DTSTAMP:20260419T113319Z
UID:a4b5d1ecc2f54b93ae1b09b296861559@saas_stack_varnish:6080
CONTACT:Lily Jesmore\, 9038563302\, lilym@pittsburglibrary.org
CREATED:20240131T210022Z
DESCRIPTION:Boas vs. Pythons Program. We are a group of experienced\, full
 y-insured animal presenters\, dedicated to helping people of all ages beco
 me more knowledgeable about their natural world. We especially delight in 
 helping kids develop a true appreciation for nature and fostering a stewar
 dship for the earth's wildlife.
LAST-MODIFIED:20240131T210028Z
LOCATION:Pittsburg Library
URL:https://www.pittsburglibrary.org/news-events/wildlife-on-the-move
END:VEVENT
BEGIN:VTIMEZONE
TZID:US/Central
X-LIC-LOCATION:US/Central
BEGIN:DAYLIGHT
DTSTART:20240310T030000
TZNAME:CDT
TZOFFSETFROM:-0600
TZOFFSETTO:-0500
END:DAYLIGHT
END:VTIMEZONE
END:VCALENDAR
